{
 "currentVersion": 11.5,
 "cimVersion": "3.5.0",
 "serviceDescription": "",
 "mapName": "Blank_Basemap",
 "description": "",
 "copyrightText": "",
 "supportsDynamicLayers": false,
 "layers": [
  {
   "id": 0,
   "name": "cache2016extent",
   "parentLayerId": -1,
   "defaultVisibility": false,
   "subLayerIds": null,
   "minScale": 0,
   "maxScale": 0,
   "type": "Feature Layer",
   "geometryType": "esriGeometryPolygon",
   "supportsDynamicLegends": true
  }
 ],
 "tables": [],
 "spatialReference": {
  "wkid": 32612,
  "latestWkid": 32612,
  "xyTolerance": 0.001,
  "zTolerance": 0.001,
  "mTolerance": 0.001,
  "falseX": -5120900,
  "falseY": -9998100,
  "xyUnits": 10000,
  "falseZ": -100000,
  "zUnits": 10000,
  "falseM": -100000,
  "mUnits": 10000
 },
 "singleFusedMapCache": true,
 "tileInfo": {
  "rows": 256,
  "cols": 256,
  "dpi": 96,
  "format": "JPEG",
  "compressionQuality": 55,
  "origin": {
   "x": -5682840.144469,
   "y": 1.0465636498631E7
  },
  "spatialReference": {
   "wkid": 32612,
   "latestWkid": 32612,
   "xyTolerance": 0.001,
   "zTolerance": 0.001,
   "mTolerance": 0.001,
   "falseX": -5120900,
   "falseY": -9998100,
   "xyUnits": 10000,
   "falseZ": -100000,
   "zUnits": 10000,
   "falseM": -100000,
   "mUnits": 10000
  },
  "lods": [
   {
    "level": 0,
    "resolution": 19567.878989924648,
    "scale": 73957190
   },
   {
    "level": 1,
    "resolution": 9783.939494962324,
    "scale": 36978595
   },
   {
    "level": 2,
    "resolution": 4891.96961518923,
    "scale": 18489297
   },
   {
    "level": 3,
    "resolution": 2445.984675302684,
    "scale": 9244648
   },
   {
    "level": 4,
    "resolution": 1222.992337651342,
    "scale": 4622324
   },
   {
    "level": 5,
    "resolution": 611.496168825671,
    "scale": 2311162
   },
   {
    "level": 6,
    "resolution": 305.7480844128355,
    "scale": 1155581
   },
   {
    "level": 7,
    "resolution": 152.874174498349,
    "scale": 577791
   },
   {
    "level": 8,
    "resolution": 76.43695495724326,
    "scale": 288895
   },
   {
    "level": 9,
    "resolution": 38.218609770552874,
    "scale": 144448
   },
   {
    "level": 10,
    "resolution": 19.109304885276437,
    "scale": 72224
   },
   {
    "level": 11,
    "resolution": 9.554652442638218,
    "scale": 36112
   },
   {
    "level": 12,
    "resolution": 4.777326221319109,
    "scale": 18056
   },
   {
    "level": 13,
    "resolution": 2.3886631106595546,
    "scale": 9028
   },
   {
    "level": 14,
    "resolution": 1.1943315553297773,
    "scale": 4514
   },
   {
    "level": 15,
    "resolution": 0.5971657776648887,
    "scale": 2257
   },
   {
    "level": 16,
    "resolution": 0.2984505969011938,
    "scale": 1128
   },
   {
    "level": 17,
    "resolution": 0.1492252984505969,
    "scale": 564
   },
   {
    "level": 18,
    "resolution": 0.07461264922529845,
    "scale": 282
   }
  ]
 },
 "storageInfo": {
  "storageFormat": "esriMapCacheStorageModeCompactV2",
  "packetSize": 128
 },
 "initialExtent": {
  "xmin": 709250.1967061295,
  "ymin": 4326533.517085983,
  "xmax": 712748.2174991986,
  "ymax": 4329006.255922464,
  "spatialReference": {
   "wkid": 32612,
   "latestWkid": 32612,
   "xyTolerance": 0.001,
   "zTolerance": 0.001,
   "mTolerance": 0.001,
   "falseX": -5120900,
   "falseY": -9998100,
   "xyUnits": 10000,
   "falseZ": -100000,
   "zUnits": 10000,
   "falseM": -100000,
   "mUnits": 10000
  }
 },
 "fullExtent": {
  "xmin": 687752.9636000004,
  "ymin": 4315780.806299999,
  "xmax": 730025.1333999997,
  "ymax": 4345629.3244,
  "spatialReference": {
   "wkid": 32612,
   "latestWkid": 32612,
   "xyTolerance": 0.001,
   "zTolerance": 0.001,
   "mTolerance": 0.001,
   "falseX": -5120900,
   "falseY": -9998100,
   "xyUnits": 10000,
   "falseZ": -100000,
   "zUnits": 10000,
   "falseM": -100000,
   "mUnits": 10000
  }
 },
 "datesInUnknownTimezone": false,
 "minScale": 73957190,
 "maxScale": 282,
 "units": "esriMeters",
 "supportedImageFormatTypes": "PNG32,PNG24,PNG,JPG,DIB,TIFF,EMF,PS,PDF,GIF,SVG,SVGZ,BMP",
 "documentInfo": {
  "Title": "Raster Basemaps.aprx",
  "Author": "",
  "Comments": "",
  "Subject": "",
  "Category": "",
  "Version": "2.9.0",
  "AntialiasingMode": "Fast",
  "TextAntialiasingMode": "Force",
  "Keywords": "Airphoto"
 },
 "supportsQueryDomains": true,
 "capabilities": "Map,Query,Data",
 "supportedQueryFormats": "JSON, geoJSON, PBF",
 "hasVersionedData": true,
 "exportTilesAllowed": false,
 "referenceScale": 0.0,
 "supportsDatumTransformation": true,
 "archivingInfo": {
  "supportsHistoricMoment": false
 },
 "supportsClipping": true,
 "supportsSpatialFilter": true,
 "supportsTimeRelation": true,
 "supportsQueryDataElements": true,
 "mapUnits": {
  "uwkid": 9001
 },
 "maxSelectionCount": 2000,
 "maxRecordCount": 2000,
 "maxImageHeight": 4096,
 "maxImageWidth": 4096,
 "supportedExtensions": "",
 "resampling": false,
 "serviceItemId": "9335627a543049abacd0c8ac10b13055"
}
